BEGIN:VCALENDAR
VERSION:2.0
PRODID:-//hacksw/handcal//NONSGML v1.0//EN
BEGIN:VEVENT
SUMMARY:Poudre noire St Amand
UID:b6d5961e-81ee-49af-b77a-efb9ee568044
DTSTART:20260327T230000Z
DTEND:20260329T230000Z
LOCATION:Localisation   
CATEGORIES:Sportif
STATUS:
DESCRIPTION:<p><a
 href="https://admin.sportsregions.fr/media/uploaded/sites/2320/kcupload/files/Affiche%20concours%20poudre%20noire%202026.pdf"
 target="_blank" rel="noreferrer noopener">Affiche</a></p>
 
 <p> </p>
URL;VALUE=URI:https://tir-allouis.sportsregions.fr/evenements/2026/03/28/poudre-noire-st-amand-2443528
END:VEVENT
END:VCALENDAR
